BEGIN:VCALENDAR
VERSION:2.0
PRODID:-//The School District of Jenkintown - ECPv6.15.20//NONSGML v1.0//EN
CALSCALE:GREGORIAN
METHOD:PUBLISH
X-WR-CALNAME:The School District of Jenkintown
X-ORIGINAL-URL:https://jenkintowndrakes.org
X-WR-CALDESC:Events for The School District of Jenkintown
REFRESH-INTERVAL;VALUE=DURATION:PT1H
X-Robots-Tag:noindex
X-PUBLISHED-TTL:PT1H
BEGIN:VTIMEZONE
TZID:America/New_York
BEGIN:DAYLIGHT
TZOFFSETFROM:-0500
TZOFFSETTO:-0400
TZNAME:EDT
DTSTART:20240310T070000
END:DAYLIGHT
BEGIN:STANDARD
TZOFFSETFROM:-0400
TZOFFSETTO:-0500
TZNAME:EST
DTSTART:20241103T060000
END:STANDARD
BEGIN:DAYLIGHT
TZOFFSETFROM:-0500
TZOFFSETTO:-0400
TZNAME:EDT
DTSTART:20250309T070000
END:DAYLIGHT
BEGIN:STANDARD
TZOFFSETFROM:-0400
TZOFFSETTO:-0500
TZNAME:EST
DTSTART:20251102T060000
END:STANDARD
BEGIN:DAYLIGHT
TZOFFSETFROM:-0500
TZOFFSETTO:-0400
TZNAME:EDT
DTSTART:20260308T070000
END:DAYLIGHT
BEGIN:STANDARD
TZOFFSETFROM:-0400
TZOFFSETTO:-0500
TZNAME:EST
DTSTART:20261101T060000
END:STANDARD
END:VTIMEZONE
BEGIN:VEVENT
DTSTART;TZID=America/New_York:20251024T153000
DTEND;TZID=America/New_York:20251024T170000
DTSTAMP:20260419T134615
CREATED:20251003T141848Z
LAST-MODIFIED:20251003T141848Z
UID:10002250-1761319800-1761325200@jenkintowndrakes.org
SUMMARY:MS Girls Soccer vs. Ancillae  (HOME)
DESCRIPTION:
URL:https://jenkintowndrakes.org/event/ms-girls-soccer-vs-ancillae-home-2/
CATEGORIES:Athletics
END:VEVENT
BEGIN:VEVENT
DTSTART;TZID=America/New_York:20251024T170000
DTEND;TZID=America/New_York:20251024T190000
DTSTAMP:20260419T134615
CREATED:20251003T142200Z
LAST-MODIFIED:20251003T142200Z
UID:10002251-1761325200-1761332400@jenkintowndrakes.org
SUMMARY:MS Boys Soccer vs. Ancillae (HOME)
DESCRIPTION:
URL:https://jenkintowndrakes.org/event/ms-boys-soccer-vs-ancillae-home-2/
CATEGORIES:Athletics
END:VEVENT
BEGIN:VEVENT
DTSTART;TZID=America/New_York:20251024T190000
DTEND;TZID=America/New_York:20251024T213000
DTSTAMP:20260419T134615
CREATED:20250728T125922Z
LAST-MODIFIED:20250728T125922Z
UID:10001472-1761332400-1761341400@jenkintowndrakes.org
SUMMARY:V Football @ Bristol (AWAY)
DESCRIPTION:
URL:https://jenkintowndrakes.org/event/v-football-bristol-away/
CATEGORIES:Athletics
END:VEVENT
END:VCALENDAR