BEGIN:VCALENDAR
VERSION:2.0
PRODID:-//The School District of Jenkintown - ECPv6.15.20//NONSGML v1.0//EN
CALSCALE:GREGORIAN
METHOD:PUBLISH
X-ORIGINAL-URL:https://jenkintowndrakes.org
X-WR-CALDESC:Events for The School District of Jenkintown
REFRESH-INTERVAL;VALUE=DURATION:PT1H
X-Robots-Tag:noindex
X-PUBLISHED-TTL:PT1H
BEGIN:VTIMEZONE
TZID:America/New_York
BEGIN:DAYLIGHT
TZOFFSETFROM:-0500
TZOFFSETTO:-0400
TZNAME:EDT
DTSTART:20250309T070000
END:DAYLIGHT
BEGIN:STANDARD
TZOFFSETFROM:-0400
TZOFFSETTO:-0500
TZNAME:EST
DTSTART:20251102T060000
END:STANDARD
BEGIN:DAYLIGHT
TZOFFSETFROM:-0500
TZOFFSETTO:-0400
TZNAME:EDT
DTSTART:20260308T070000
END:DAYLIGHT
BEGIN:STANDARD
TZOFFSETFROM:-0400
TZOFFSETTO:-0500
TZNAME:EST
DTSTART:20261101T060000
END:STANDARD
BEGIN:DAYLIGHT
TZOFFSETFROM:-0500
TZOFFSETTO:-0400
TZNAME:EDT
DTSTART:20270314T070000
END:DAYLIGHT
BEGIN:STANDARD
TZOFFSETFROM:-0400
TZOFFSETTO:-0500
TZNAME:EST
DTSTART:20271107T060000
END:STANDARD
END:VTIMEZONE
BEGIN:VEVENT
DTSTART;TZID=America/New_York:20260205T150000
DTEND;TZID=America/New_York:20260205T170000
DTSTAMP:20260419T192400
CREATED:20251028T133804Z
LAST-MODIFIED:20251028T133804Z
UID:10002328-1770303600-1770310800@jenkintowndrakes.org
SUMMARY:V Bowling vs. Perkiomen Valley (HOME)
DESCRIPTION:
URL:https://jenkintowndrakes.org/event/v-bowling-vs-perkiomen-valley-home/
CATEGORIES:Athletics
END:VEVENT
BEGIN:VEVENT
DTSTART;TZID=America/New_York:20260205T154500
DTEND;TZID=America/New_York:20260205T170000
DTSTAMP:20260419T192400
CREATED:20251028T135335Z
LAST-MODIFIED:20251028T135335Z
UID:10002337-1770306300-1770310800@jenkintowndrakes.org
SUMMARY:MS Boys Basketball @ Plumstead (AWAY)
DESCRIPTION:
URL:https://jenkintowndrakes.org/event/ms-boys-basketball-plumstead-away-2/
CATEGORIES:Athletics
END:VEVENT
BEGIN:VEVENT
DTSTART;TZID=America/New_York:20260205T173000
DTEND;TZID=America/New_York:20260205T190000
DTSTAMP:20260419T192400
CREATED:20251027T155041Z
LAST-MODIFIED:20251027T155041Z
UID:10002310-1770312600-1770318000@jenkintowndrakes.org
SUMMARY:V/JV Boys Basketball @ New Hope Solebury (AWAY)
DESCRIPTION:
URL:https://jenkintowndrakes.org/event/v-jv-boys-basketball-new-hope-solebury-away/
CATEGORIES:Athletics
END:VEVENT
END:VCALENDAR