BEGIN:VCALENDAR
VERSION:2.0
PRODID:-//The School District of Jenkintown - ECPv6.15.20//NONSGML v1.0//EN
CALSCALE:GREGORIAN
METHOD:PUBLISH
X-ORIGINAL-URL:https://jenkintowndrakes.org
X-WR-CALDESC:Events for The School District of Jenkintown
REFRESH-INTERVAL;VALUE=DURATION:PT1H
X-Robots-Tag:noindex
X-PUBLISHED-TTL:PT1H
BEGIN:VTIMEZONE
TZID:UTC
BEGIN:STANDARD
TZOFFSETFROM:+0000
TZOFFSETTO:+0000
TZNAME:UTC
DTSTART:20240101T000000
END:STANDARD
END:VTIMEZONE
BEGIN:VEVENT
DTSTART;TZID=UTC:20250305T190000
DTEND;TZID=UTC:20250305T200000
DTSTAMP:20260420T181646
CREATED:20240828T162934Z
LAST-MODIFIED:20240828T162934Z
UID:10000132-1741201200-1741204800@jenkintowndrakes.org
SUMMARY:Home & School Meeting
DESCRIPTION:
URL:https://jenkintowndrakes.org/event/home-school-meeting-6/
CATEGORIES:HSA Event
END:VEVENT
END:VCALENDAR