BEGIN:VCALENDAR
VERSION:2.0
PRODID:-//The School District of Jenkintown - ECPv6.15.20//NONSGML v1.0//EN
CALSCALE:GREGORIAN
METHOD:PUBLISH
X-WR-CALNAME:The School District of Jenkintown
X-ORIGINAL-URL:https://jenkintowndrakes.org
X-WR-CALDESC:Events for The School District of Jenkintown
REFRESH-INTERVAL;VALUE=DURATION:PT1H
X-Robots-Tag:noindex
X-PUBLISHED-TTL:PT1H
BEGIN:VTIMEZONE
TZID:UTC
BEGIN:STANDARD
TZOFFSETFROM:+0000
TZOFFSETTO:+0000
TZNAME:UTC
DTSTART:20240101T000000
END:STANDARD
END:VTIMEZONE
BEGIN:VEVENT
DTSTART;VALUE=DATE:20250131
DTEND;VALUE=DATE:20250201
DTSTAMP:20260420T094526
CREATED:20240903T214833Z
LAST-MODIFIED:20240903T214833Z
UID:10000927-1738281600-1738367999@jenkintowndrakes.org
SUMMARY:Polar Plunge
DESCRIPTION:
URL:https://jenkintowndrakes.org/event/polar-plunge/
CATEGORIES:MS/HS Events
END:VEVENT
BEGIN:VEVENT
DTSTART;TZID=UTC:20250131T071500
DTEND;TZID=UTC:20250131T075000
DTSTAMP:20260420T094526
CREATED:20240828T220739Z
LAST-MODIFIED:20240912T110147Z
UID:10000615-1738307700-1738309800@jenkintowndrakes.org
SUMMARY:MS Jazz Band
DESCRIPTION:
URL:https://jenkintowndrakes.org/event/ms-jazz-band/2025-01-31/
CATEGORIES:MS/HS Events
END:VEVENT
BEGIN:VEVENT
DTSTART;TZID=UTC:20250131T073000
DTEND;TZID=UTC:20250131T075000
DTSTAMP:20260420T094526
CREATED:20240828T221030Z
LAST-MODIFIED:20240912T110304Z
UID:10000652-1738308600-1738309800@jenkintowndrakes.org
SUMMARY:WLHS Cafe
DESCRIPTION:
URL:https://jenkintowndrakes.org/event/wlhs-cafe/2025-01-31/
CATEGORIES:MS/HS Events
END:VEVENT
BEGIN:VEVENT
DTSTART;TZID=UTC:20250131T073000
DTEND;TZID=UTC:20250131T080000
DTSTAMP:20260420T094526
CREATED:20240903T214758Z
LAST-MODIFIED:20240903T214758Z
UID:10000926-1738308600-1738310400@jenkintowndrakes.org
SUMMARY:Coco Cafe
DESCRIPTION:
URL:https://jenkintowndrakes.org/event/coco-cafe-2/
CATEGORIES:MS/HS Events
END:VEVENT
END:VCALENDAR