BEGIN:VCALENDAR
VERSION:2.0
PRODID:-//The School District of Jenkintown - ECPv6.15.20//NONSGML v1.0//EN
CALSCALE:GREGORIAN
METHOD:PUBLISH
X-ORIGINAL-URL:https://jenkintowndrakes.org
X-WR-CALDESC:Events for The School District of Jenkintown
REFRESH-INTERVAL;VALUE=DURATION:PT1H
X-Robots-Tag:noindex
X-PUBLISHED-TTL:PT1H
BEGIN:VTIMEZONE
TZID:UTC
BEGIN:STANDARD
TZOFFSETFROM:+0000
TZOFFSETTO:+0000
TZNAME:UTC
DTSTART:20240101T000000
END:STANDARD
END:VTIMEZONE
BEGIN:VEVENT
DTSTART;VALUE=DATE:20250321
DTEND;VALUE=DATE:20250330
DTSTAMP:20260420T202441
CREATED:20240805T152807Z
LAST-MODIFIED:20240805T152807Z
UID:10000123-1742515200-1743292799@jenkintowndrakes.org
SUMMARY:Foreign Exchange Trip to Spain/France
DESCRIPTION:
URL:https://jenkintowndrakes.org/event/foreign-exchange-trip-to-spain-france/
CATEGORIES:MS/HS Events
END:VEVENT
BEGIN:VEVENT
DTSTART;TZID=UTC:20250325T071500
DTEND;TZID=UTC:20250325T080000
DTSTAMP:20260420T202441
CREATED:20240828T220005Z
LAST-MODIFIED:20240912T105342Z
UID:10000574-1742886900-1742889600@jenkintowndrakes.org
SUMMARY:HS Jazz Band
DESCRIPTION:
URL:https://jenkintowndrakes.org/event/hs-jazz-band/2025-03-25/
CATEGORIES:MS/HS Events
END:VEVENT
BEGIN:VEVENT
DTSTART;TZID=UTC:20250325T144500
DTEND;TZID=UTC:20250325T153000
DTSTAMP:20260420T202441
CREATED:20240829T202057Z
LAST-MODIFIED:20240912T105223Z
UID:10000734-1742913900-1742916600@jenkintowndrakes.org
SUMMARY:MSHS Art Club
DESCRIPTION:
URL:https://jenkintowndrakes.org/event/mshs-art-club/2025-03-25/
CATEGORIES:MS/HS Events
END:VEVENT
END:VCALENDAR